BEGIN:VCALENDAR
VERSION:2.0
PRODID:-//eventon.com NONSGML v1.0//EN
CALSCALE:GREGORIAN
METHOD:PUBLISH
BEGIN:VEVENT
UID:69ea5ef41bfe4
DTSTAMP:20260423T180332Z
DTSTART:20241211T100000Z
DTEND:20241211T110000Z
LOCATION:
SUMMARY:Atención centrada en la persona. “Un camino hacia el buen trato”
DESCRIPTION:Contenido: Hablaremos con Galfor sobre: Los profesionales\,  la
  historia y el proyecto de vida\,  la autodeterminación\,  la independenci
 a funcional\,  la prevención de riesgos y la protección de daños\,  la i
 ntimidad\,  la vida significativa y bienestar personal y la comunicación. 
 Ponentes: Eva Da Silva: Técnica Superior en Integración Social Atención 
 Sociosanitaria[..]\nhttps://addinformatica.com/cursos-formacion/atencion-ce
 ntrada-en-la-persona-un-camino-hacia-el-buen-trato/
URL:https://addinformatica.com/cursos-formacion/atencion-centrada-en-la-persona-un-camino-hacia-el-buen-trato/
END:VEVENT
END:VCALENDAR