BEGIN:VCALENDAR
VERSION:2.0
PRODID:-//eventon.com NONSGML v1.0//EN
CALSCALE:GREGORIAN
METHOD:PUBLISH
BEGIN:VEVENT
UID:69e5c65f5e9a0
DTSTAMP:20260420T062327Z
DTSTART:20240423T090000Z
DTEND:20240423T100000Z
LOCATION:
SUMMARY:Descubre la obligación de implantar canal de denuncias
DESCRIPTION:Contenido: La ley 2/2023 de protección del informante nos desa
 fía a implementar el Canal de Denuncias o Canal Ético en empresas con mas
  de 50 trabajadores. Este canal no solo es una obligación legal\,  sino un
  paso crucial hacia la transparencia y la ética empresarial. Únete a nues
 tra jornada informativa[..]\nhttps://addinformatica.com/cursos-formacion/de
 scubre-la-obligacion-de-implantar-canal-de-denuncias/
URL:https://addinformatica.com/cursos-formacion/descubre-la-obligacion-de-implantar-canal-de-denuncias/
END:VEVENT
END:VCALENDAR