BEGIN:VCALENDAR
VERSION:2.0
PRODID:-//eventon.com NONSGML v1.0//EN
CALSCALE:GREGORIAN
METHOD:PUBLISH
BEGIN:VEVENT
UID:69e88b2777899
DTSTAMP:20260422T084735Z
DTSTART:20220201T150000Z
DTEND:20220201T160000Z
LOCATION:
SUMMARY:Ficha de Residente
DESCRIPTION:Contenido: Distribución de apartados generales en la ficha de 
 residente. Caso práctico: Crear una ficha de residente y completar la info
 rmación básica: datos generales\,  contactos &#8211; familiares\,  datos 
 adicionales\,  evolución temporal y enseres. Dar de baja una ficha de resi
 dentes por baja voluntaria. Realizar un reingreso de un residente desde[..]
 \nhttps://addinformatica.com/cursos-formacion/ficha-del-residente/var/ri-1.
 l-L1
URL:https://addinformatica.com/cursos-formacion/ficha-del-residente/var/ri-1.l-L1
END:VEVENT
END:VCALENDAR