BEGIN:VCALENDAR
VERSION:2.0
PRODID:-//eventon.com NONSGML v1.0//EN
CALSCALE:GREGORIAN
METHOD:PUBLISH
BEGIN:VEVENT
UID:69ea398b4b8d8
DTSTAMP:20260423T152355Z
DTSTART:20191204T140000Z
DTEND:20191204T150000Z
LOCATION:
SUMMARY:Planificación en Plan de Cuidados
DESCRIPTION:Contenido: Creación y planificación de cuidados. Registrar la
  realización y resultado de las tareas de cuidados. Caso práctico: Creare
 mos un tipo de cuidado procedente de un control. Planificar el tipo y subti
 po de cuidado de forma individual\,  planificar el tipo de cuidado de forma
  grupal. Desvincular el grupo de planificación[..]\nhttps://addinformatica
 .com/cursos-formacion/planificacion-en-plan-de-cuidados/
URL:https://addinformatica.com/cursos-formacion/planificacion-en-plan-de-cuidados/
END:VEVENT
END:VCALENDAR