BEGIN:VCALENDAR
VERSION:2.0
PRODID:-//eventon.com NONSGML v1.0//EN
CALSCALE:GREGORIAN
METHOD:PUBLISH
BEGIN:VEVENT
UID:69ed1aeb9250e
DTSTAMP:20260425T195003Z
DTSTART:20190917T130000Z
DTEND:20190917T140000Z
LOCATION:
SUMMARY:Asistente de Reglas\,  Alertas y Condiciones. Ejemplos
DESCRIPTION:Contenido: ¿Puede ResiPlus avisarme cuando un residente no tie
 ne al menos un control de peso por mes? ¿Cómo puedo asegurarme de que tod
 os los PAI&#8217;s se realizan dentro de los plazos exigidos? Caso práctic
 o: Crear utilizando el ASISTENTE una regla que informe a los supervisores/c
 oordinadores que existen residentes que no[..]\nhttps://addinformatica.com/
 cursos-formacion/asistente-reglas-alertas-condiciones-ejemplos/
URL:https://addinformatica.com/cursos-formacion/asistente-reglas-alertas-condiciones-ejemplos/
END:VEVENT
END:VCALENDAR