BEGIN:VCALENDAR
VERSION:2.0
PRODID:-//eventon.com NONSGML v1.0//EN
CALSCALE:GREGORIAN
METHOD:PUBLISH
BEGIN:VEVENT
UID:69ea00a698623
DTSTAMP:20260423T112110Z
DTSTART:20210128T150000Z
DTEND:20210128T160000Z
LOCATION:
SUMMARY:Reglas de Uso Habitual
DESCRIPTION:Contenido: Utilizar el Asistente de Reglas para crear Reglas de
  Uso Habitual. Caso práctico: Crear las reglas más comunes que permiten s
 upervisar y controlar lo que suceder en el centro. Nivel de Conocimientos d
 el módulo de Reglas: INTERMEDIO. Destinatarios: Director\,  Responsable de
  Calidad y Coordinador. ID del seminario web: 306-817-019\nhttps://addinfor
 matica.com/cursos-formacion/reglas-de-uso-habitual/var/ri-1.l-L1
URL:https://addinformatica.com/cursos-formacion/reglas-de-uso-habitual/var/ri-1.l-L1
END:VEVENT
END:VCALENDAR