BEGIN:VCALENDAR
VERSION:2.0
PRODID:-//eventon.com NONSGML v1.0//EN
CALSCALE:GREGORIAN
METHOD:PUBLISH
BEGIN:VEVENT
UID:69e80cd681453
DTSTAMP:20260421T234838Z
DTSTART:20220628T140000Z
DTEND:20220628T150000Z
LOCATION:
SUMMARY:Regles: creaciÃ³ de regles des de l' assistent
DESCRIPTION:Contingut: ConfiguraciÃ³ de regles i condicions des de l&#8217;
 assitent. Cas prÃ ctic: Configurar una alerta des de l&#8217;assistent per 
 arribar un missatge si un resident nou no tÃ© pla d&#8217;atenciÃ³ en els Ã
 ºltims dos mesos desprÃ©s del seu ingrÃ©s. DesprÃ©s configurar una alerta q
 ue serveixi tambÃ© com a filtre dels residents[..]\nhttps://addinformatica.
 com/ca/cursos-formacion/disenyador-de-regles/var/ri-2.l-L1
URL:https://addinformatica.com/ca/cursos-formacion/disenyador-de-regles/var/ri-2.l-L1
END:VEVENT
END:VCALENDAR